BEGIN:VCALENDAR
VERSION:2.0
PRODID:-//Lethbridge Folk Club - ECPv6.15.20//NONSGML v1.0//EN
CALSCALE:GREGORIAN
METHOD:PUBLISH
X-WR-CALNAME:Lethbridge Folk Club
X-ORIGINAL-URL:https://lethbridgefolkclub.ca
X-WR-CALDESC:Events for Lethbridge Folk Club
REFRESH-INTERVAL;VALUE=DURATION:PT1H
X-Robots-Tag:noindex
X-PUBLISHED-TTL:PT1H
BEGIN:VTIMEZONE
TZID:America/Edmonton
BEGIN:DAYLIGHT
TZOFFSETFROM:-0700
TZOFFSETTO:-0600
TZNAME:MDT
DTSTART:20250309T090000
END:DAYLIGHT
BEGIN:STANDARD
TZOFFSETFROM:-0600
TZOFFSETTO:-0700
TZNAME:MST
DTSTART:20251102T080000
END:STANDARD
BEGIN:DAYLIGHT
TZOFFSETFROM:-0700
TZOFFSETTO:-0600
TZNAME:MDT
DTSTART:20260308T090000
END:DAYLIGHT
BEGIN:STANDARD
TZOFFSETFROM:-0600
TZOFFSETTO:-0700
TZNAME:MST
DTSTART:20261101T080000
END:STANDARD
BEGIN:DAYLIGHT
TZOFFSETFROM:-0700
TZOFFSETTO:-0600
TZNAME:MDT
DTSTART:20270314T090000
END:DAYLIGHT
BEGIN:STANDARD
TZOFFSETFROM:-0600
TZOFFSETTO:-0700
TZNAME:MST
DTSTART:20271107T080000
END:STANDARD
END:VTIMEZONE
BEGIN:VEVENT
DTSTART;TZID=America/Edmonton:20260418T190000
DTEND;TZID=America/Edmonton:20260418T220000
DTSTAMP:20260419T081510
CREATED:20251226T182839Z
LAST-MODIFIED:20260408T014956Z
UID:5551-1776538800-1776549600@lethbridgefolkclub.ca
SUMMARY:Greg Herman Trio
DESCRIPTION:Greg Herman Trio with Dusty Dee Litchfield \n\n\n\n\n\n\n\n\n\n\n\n\nClick Here to buy tickets\n\n\n\n\n\n\nOnline Tickets are available now. \n\n\n\nTickets are available at our ticket partners: Analog Books\, Cuppers Coffee\, Theoretically Brewing\, and Casa. \n\n\n\n“Entertaining and Thought Provoking”–  Maple Creek News \n\n\n\n“Raw simplicity that connects with audiences”–  Maple Creek Advance Times \n\n\n\n\n\n\n\n\nThe Lethbridge Folk Club Presents the Greg Herman Trio. \n\n\n\nActive as a musician since 1985\, Greg writes about the land\, family\, history and any ideas he can catch. Home is the family ranch north of Medicine Hat\, his style reflects the influences from community and many types of music. \n\n\n\n\nGreg Herman is a songwriter of great talent and craft\, his lyrics rising authentically from the southeastern Alberta plains. The place he lives in and works in. The place he was born in. When you’ve been too long away Greg’s songs beckon you home. \n\n\n\nLocal Singer/Songwriter\, Dusty Dee Litchfield will be opening. \n\n\n\n“Dusty Dee has a distinctive voice and a quirky sense of humor … as well as a knack for telling a good story” – Richard Amery\, LABeat.ca. \n\n\n\nDusty comments that “It is the song\, Lyric\, Melody\, Harmony\, and Rhythm. They all combine to capture the imagination of the listener. It is the song.” \n\n\n\nDoors open at 6:30 PM \n\n\n\nReturn Policy
URL:https://lethbridgefolkclub.ca/event/greg-herman-trio/
LOCATION:Army Navy Air Force Club (ANAVETS)\, 517 - 5 Ave South\, Lethbridge\, Alberta\, T1J 0T9\, Canada
CATEGORIES:Concert
ATTACH;FMTTYPE=image/jpeg:https://lethbridgefolkclub.ca/wp-content/uploads/2025/12/gREG-hERMAN-tRIO.jpg
END:VEVENT
END:VCALENDAR