BEGIN:VCALENDAR
VERSION:2.0
PRODID:-//Lethbridge Folk Club - ECPv6.15.20//NONSGML v1.0//EN
CALSCALE:GREGORIAN
METHOD:PUBLISH
X-WR-CALNAME:Lethbridge Folk Club
X-ORIGINAL-URL:https://lethbridgefolkclub.ca
X-WR-CALDESC:Events for Lethbridge Folk Club
REFRESH-INTERVAL;VALUE=DURATION:PT1H
X-Robots-Tag:noindex
X-PUBLISHED-TTL:PT1H
BEGIN:VTIMEZONE
TZID:America/Edmonton
BEGIN:DAYLIGHT
TZOFFSETFROM:-0700
TZOFFSETTO:-0600
TZNAME:MDT
DTSTART:20250309T090000
END:DAYLIGHT
BEGIN:STANDARD
TZOFFSETFROM:-0600
TZOFFSETTO:-0700
TZNAME:MST
DTSTART:20251102T080000
END:STANDARD
BEGIN:DAYLIGHT
TZOFFSETFROM:-0700
TZOFFSETTO:-0600
TZNAME:MDT
DTSTART:20260308T090000
END:DAYLIGHT
BEGIN:STANDARD
TZOFFSETFROM:-0600
TZOFFSETTO:-0700
TZNAME:MST
DTSTART:20261101T080000
END:STANDARD
BEGIN:DAYLIGHT
TZOFFSETFROM:-0700
TZOFFSETTO:-0600
TZNAME:MDT
DTSTART:20270314T090000
END:DAYLIGHT
BEGIN:STANDARD
TZOFFSETFROM:-0600
TZOFFSETTO:-0700
TZNAME:MST
DTSTART:20271107T080000
END:STANDARD
END:VTIMEZONE
BEGIN:VEVENT
DTSTART;TZID=America/Edmonton:20260313T190000
DTEND;TZID=America/Edmonton:20260313T210000
DTSTAMP:20260421T203417
CREATED:20260307T205414Z
LAST-MODIFIED:20260307T205418Z
UID:5811-1773428400-1773435600@lethbridgefolkclub.ca
SUMMARY:Open Stage
DESCRIPTION:Join us for our open stage Friday March 13\, 2026\n\n\n\n\n\n\n\n\n\nLethbridge Folk Club OPEN STAGE\n\n\n\nAlways on the 2nd Friday of the month September until May.\n\n\n\n\n\n\nOur Open Stage Nights continue. \n\n\n\nJoin us to sing\, play\, hone your musical skills or just come and listen. \n\n\n\nAll are welcome to the Lethbridge Folk Club’s ‘Open Stage’ evenings\, where we host local performing musicians and poets at McKillop United Church Hall: 2329 15th Avenue South\, Lethbridge\, Alberta \n\n\n\nLethbridge Folk Club will provide you with a stage with sound facilities at no cost so that you can perform some of your own music\, music you have borrowed\, or poetry of your choice. You will also have an eager and appreciative audience to listen to and perhaps dance to your musical performance! \n\n\n\nThe dates for 2026 are: This Year’s Open Stage nights are on: \n\n\n\nMarch 13\, 2026\, \n\n\n\nApril 10\, 2026\, \n\n\n\nand May 8\, 2026 \n\n\n\nEnter at the main entrance\, turn left\, and go up the stairs to the hall.  Donations are appreciated to help pay for the venue. \n\n\n\nWe are looking for a $5.00 contribution to support our Open Stage program. Please click here at “Support Us Financially”  or click on the green button below. \n\n\n\n\n\n\n\n\n\n\n\n\n\nSupport Us Financially\n\n\n\n\nEven though we are an Alberta Nonprofit and not supposed to make money\, we can’t lose any either\, we’d be honored if you you help us defray some of our hard costs of this free event with a donation. If you can afford it\, please click the support button.  Thanks so much! \n\n\n\n\n\n\n\n\nSupport the Folk Club by purchasing Our Cuppers Coffee\, click here!\n\n\n\n\n\n\n\n\n\n\n			\n				\n			\n		\n\n\n\n\n			\n				\n			\n		\n\n\n\n\n			\n				\n			\n		\n\n\n\n\n			\n				\n			\n		\n\n\n\n\n			\n				\n			\n		\n\n\n\n\n			\n				\n			\n		\n\n\n\n\n			\n				\n			\n		\n\n\n\n\n			\n				\n			\n		\n\n\n\n\n			\n				\n			\n		\n\n\n\n\n			\n				\n			\n		\n\n\n\n\n			\n				\n			\n		\n\n\n\n\n\n\n\n\n			\n				\n			\n		\n\n\n\n\n			\n				\n			\n		\n\n\n\n\n			\n				\n			\n		\n\n\n\n\n			\n				\n			\n		\n\n\n\n\n			\n				\n			\n		\n\n\n\n\n			\n				\n			\n		\n\n\n\n\n			\n				\n			\n		\n\n\n\n\n			\n				\n			\n		\nFun and music from our Open Stage Nights
URL:https://lethbridgefolkclub.ca/event/open-stage-19/
LOCATION:McKillop United Church\, 2329 15 Ave South\, Lethbridge\, Alberta\, T1K0X5\, Canada
CATEGORIES:Open Stage
ATTACH;FMTTYPE=image/jpeg:https://lethbridgefolkclub.ca/wp-content/uploads/2023/12/Open-Stage.jpg
ORGANIZER;CN="Lethbridge Folk Club":MAILTO:tickets@lethbridgefolkclub.ca
END:VEVENT
BEGIN:VEVENT
DTSTART;TZID=America/Edmonton:20260321T193000
DTEND;TZID=America/Edmonton:20260321T223000
DTSTAMP:20260421T203417
CREATED:20251027T224823Z
LAST-MODIFIED:20260225T140428Z
UID:5105-1774121400-1774132200@lethbridgefolkclub.ca
SUMMARY:Horizon Ridge
DESCRIPTION:Horizon Ridge \n\n\n\n\n\n\n\n\n\n\n\n\nBuy Tickets Click Here\n\n\n\n\nGeneral Admission $40. Members $35 \n\n\n\n\n\nTickets for this event are available exclusively online until Feb 26th. After Feb 26th\, tickets will be available online and at our ticket partners: Analog Books\, Cuppers Coffee\, Theoretically Brewing\, and Casa. \n\n\n\n“With a repertoire reflecting their diverse musical backgrounds – from Canadiana\, east-coast kitchen parties\, country & blues to contemporary and traditional British folk – a Horizon Ridge concert brings you on a musical journey through tight\, four-part a cappella harmonies to intricate multi-instrumental arrangements – and always with an invitation to sing along.” \n\n\n\nTom Coxworth \n\n\n\nHost of CKUA “Folk Routes” \n\n\n\n\n\n\n\n\nJoin our event on March 21st\, 2026\, at the Army Navy Air Force Veterans Club as we continue our fall season with Horizon Ridge. \n\n\n\nHorizon Ridge is a group of fine multi-instrumentalists and seasoned vocalists known for their intuitive\, tight harmonies and polished a cappella singing. \n\n\n\n\nBased in Calgary\, Alberta\, the band has entertained audiences at festivals\, music clubs\, events\, and concerts in Canada\, the US and the UK. \n\n\n\nHorizon Ridge is versatile and engaging with performances embracing traditional and contemporary folk\, country\, and roots. \n\n\n\nTheir albums Enough is all you need and Unison In Harmony feature a blend of original and favourite songs and showcase the band’s ability to move effortlessly through musical styles and genres. They teach instrumental and vocal harmony workshops and are currently working on new recordings\, including a winter / seasonal album. \n\n\n\nRon Hiuser has long been a favourite on the Lethbridge Music Scene\, playing at concerts\, open stages and local events. \n\n\n\nDoors open at 6:30 PM \n\n\n\nReturn Policy
URL:https://lethbridgefolkclub.ca/event/horizon-ridge-2/
LOCATION:Army Navy Air Force Club (ANAVETS)\, 517 - 5 Ave South\, Lethbridge\, Alberta\, T1J 0T9\, Canada
CATEGORIES:Concert
ATTACH;FMTTYPE=image/jpeg:https://lethbridgefolkclub.ca/wp-content/uploads/2025/10/DSC_9550_Lo-Res.jpg
END:VEVENT
BEGIN:VEVENT
DTSTART;TZID=America/Edmonton:20260410T190000
DTEND;TZID=America/Edmonton:20260410T210000
DTSTAMP:20260421T203417
CREATED:20260405T114011Z
LAST-MODIFIED:20260405T114014Z
UID:6047-1775847600-1775854800@lethbridgefolkclub.ca
SUMMARY:Open Stage
DESCRIPTION:Join us for our open stage Friday\, April 10\, 2026\n\n\n\n\n\n\n\n\n\nLethbridge Folk Club OPEN STAGE\n\n\n\nAlways on the 2nd Friday of the month September until May.\n\n\n\n\n\n\nOur Open Stage Nights continue. \n\n\n\nJoin us to sing\, play\, hone your musical skills or just come and listen. \n\n\n\nAll are welcome to the Lethbridge Folk Club’s ‘Open Stage’ evenings\, where we host local performing musicians and poets at McKillop United Church Hall: 2329 15th Avenue South\, Lethbridge\, Alberta \n\n\n\nLethbridge Folk Club will provide you with a stage with sound facilities at no cost so that you can perform some of your own music\, music you have borrowed\, or poetry of your choice. You will also have an eager and appreciative audience to listen to and perhaps dance to your musical performance! \n\n\n\nThe dates for 2026 are: This Year’s Open Stage nights are on: \n\n\n\nApril 10\, 2026\, \n\n\n\nand May 8\, 2026 \n\n\n\nEnter at the main entrance\, turn left\, and go up the stairs to the hall.  Donations are appreciated to help pay for the venue. \n\n\n\nWe are looking for a $5.00 contribution to support our Open Stage program. Please click here at “Support Us Financially”  or click on the green button below. \n\n\n\n\n\n\n\n\n\n\n\n\n\nSupport Us Financially\n\n\n\n\nEven though we are an Alberta Nonprofit and not supposed to make money\, we can’t lose any either\, we’d be honored if you you help us defray some of our hard costs of this free event with a donation. If you can afford it\, please click the support button.  Thanks so much! \n\n\n\n\n\n\n\n\nSupport the Folk Club by purchasing Our Cuppers Coffee\, click here!\n\n\n\n\n\n\n\n\n\n\n			\n				\n			\n		\n\n\n\n\n			\n				\n			\n		\n\n\n\n\n			\n				\n			\n		\n\n\n\n\n			\n				\n			\n		\n\n\n\n\n			\n				\n			\n		\n\n\n\n\n			\n				\n			\n		\n\n\n\n\n			\n				\n			\n		\n\n\n\n\n			\n				\n			\n		\n\n\n\n\n			\n				\n			\n		\n\n\n\n\n			\n				\n			\n		\n\n\n\n\n			\n				\n			\n		\n\n\n\n\n\n\n\n\n			\n				\n			\n		\n\n\n\n\n			\n				\n			\n		\n\n\n\n\n			\n				\n			\n		\n\n\n\n\n			\n				\n			\n		\n\n\n\n\n			\n				\n			\n		\n\n\n\n\n			\n				\n			\n		\n\n\n\n\n			\n				\n			\n		\n\n\n\n\n			\n				\n			\n		\nFun and music from our Open Stage Nights
URL:https://lethbridgefolkclub.ca/event/open-stage-20/
LOCATION:McKillop United Church\, 2329 15 Ave South\, Lethbridge\, Alberta\, T1K0X5\, Canada
CATEGORIES:Open Stage
ATTACH;FMTTYPE=image/jpeg:https://lethbridgefolkclub.ca/wp-content/uploads/2023/12/Open-Stage.jpg
ORGANIZER;CN="Lethbridge Folk Club":MAILTO:tickets@lethbridgefolkclub.ca
END:VEVENT
BEGIN:VEVENT
DTSTART;TZID=America/Edmonton:20260411T193000
DTEND;TZID=America/Edmonton:20260411T213000
DTSTAMP:20260421T203417
CREATED:20260213T184015Z
LAST-MODIFIED:20260401T221318Z
UID:5736-1775935800-1775943000@lethbridgefolkclub.ca
SUMMARY:Home Routes presents Kaeley jade
DESCRIPTION:Kaeley Jade \n\n\n\n\n\n\n\n\n\n\n\n\nClick Here to buy tickets\n\n\n\n\n\n\nOnline Tickets are available now. \n\n\n\nTickets are available online and at Analog Books and CASA. \n\n\n\n“With an emotionally poignant indie pop sound and her penchant for crafting relatable and pointed lyrics\, Kaeley Jade is an artist that seems capable of exciting things. Whether crafting bouncy anthems or more melancholic and thoughtful reflections\, there is a real engaging edge to her writing and her sound.” \n\n\n\n— CLOUT \n\n\n\n\n\n\n\n\nHome Routes with Lethbridge Folk Clubs’ Prairie Folk Sessions presents Kaeley Jade on Saturday April 11\, 2026\, at Analog Books. \n\n\n\nAlternative-folk singer/songwriter Kaeley Jade crafts full-hearted songs that dig deep. Growing up on the outskirts of North America’s most northern metropolis\, the Edmonton-based Métis artist has been sculpted by icy winter winds\, warm summer breezes\, and sweeping prairie skies. Whether through gently textured acoustic ballads or rip-roaring full-band cuts\, Kaeley’s powerful voice and vivid imagery capture the depths of life’s most challenging moments with sincerity and precision.  \n\n\n\nKaeley will be drifting between her piano and acoustic guitar\, and will be accompanied by the amazing multi-instrumentalist Gabriel Gagnon\, so if you’re a fan of soaring vocals\, rich lyricism\, and heavenly harmonies\, this will definitely be a show I think you should check out! \n\n\n\n\nKaeley Jade’s forthcoming album\, The Great Unknown\, finds her exploring an earthier sound\, where expansive percussion mingles with soaring guitars to create the electric charge of an impending storm. At its core is Kaeley’s heartfelt vocal delivery\, both commanding and vulnerable\, and reminiscent of artists like Serena Ryder or Kacey Musgraves. Produced by JUNO Award-winner Hill Kourkoutis\, The Great Unknown is a cinematic plunge into the dread\, conflict\, and uncertainty that arises when we reach a turning point. There is a catharsis in letting go of that which no longer serves us\, and The Great Unknown invites listeners to embrace the unpredictability of life\, confront the moments that challenge us\, and celebrate the beauty found within the ever-shifting tides of experience. \n\n\n\nA Renaissance woman at heart\, Kaeley Jade’s creative practice extends far beyond her musical prowess. After attaining her Bachelor of Fine Arts in Acting from the University of Alberta in 2020\, she has continued to dance between the worlds of music\, theatre\, film\, and visual arts. Her work on Two-Headed/Half-Hearted—a prairie-gothic folk musical that premiered at Northern Light Theatre in 2022—showcased her talents as a composer\, sound designer\, and actor\, and earned her a Music in the Arts award at the Summer Solstice Indigenous Music Awards. With over 150 performances across Canada since 2023\, Kaeley’s deep love of storytelling and dynamic stage presence shine through whether she performs solo\, duo\, or with her five-piece band. \n\n\n\nDoors open at 6:30 PM \n\n\n\nReturn Policy
URL:https://lethbridgefolkclub.ca/event/home-routes-presents-kaeley-jade/
LOCATION:Analog Books\, 322-6 street S\, Lethbridge\, Alberta\, T1J2C8\, Canada
CATEGORIES:Concert
ATTACH;FMTTYPE=image/jpeg:https://lethbridgefolkclub.ca/wp-content/uploads/2026/02/KAELEY-JADE-S-AB-_-SE-BC-APR26-SQ.jpg
END:VEVENT
BEGIN:VEVENT
DTSTART;TZID=America/Edmonton:20260418T190000
DTEND;TZID=America/Edmonton:20260418T220000
DTSTAMP:20260421T203417
CREATED:20251226T182839Z
LAST-MODIFIED:20260408T014956Z
UID:5551-1776538800-1776549600@lethbridgefolkclub.ca
SUMMARY:Greg Herman Trio
DESCRIPTION:Greg Herman Trio with Dusty Dee Litchfield \n\n\n\n\n\n\n\n\n\n\n\n\nClick Here to buy tickets\n\n\n\n\n\n\nOnline Tickets are available now. \n\n\n\nTickets are available at our ticket partners: Analog Books\, Cuppers Coffee\, Theoretically Brewing\, and Casa. \n\n\n\n“Entertaining and Thought Provoking”–  Maple Creek News \n\n\n\n“Raw simplicity that connects with audiences”–  Maple Creek Advance Times \n\n\n\n\n\n\n\n\nThe Lethbridge Folk Club Presents the Greg Herman Trio. \n\n\n\nActive as a musician since 1985\, Greg writes about the land\, family\, history and any ideas he can catch. Home is the family ranch north of Medicine Hat\, his style reflects the influences from community and many types of music. \n\n\n\n\nGreg Herman is a songwriter of great talent and craft\, his lyrics rising authentically from the southeastern Alberta plains. The place he lives in and works in. The place he was born in. When you’ve been too long away Greg’s songs beckon you home. \n\n\n\nLocal Singer/Songwriter\, Dusty Dee Litchfield will be opening. \n\n\n\n“Dusty Dee has a distinctive voice and a quirky sense of humor … as well as a knack for telling a good story” – Richard Amery\, LABeat.ca. \n\n\n\nDusty comments that “It is the song\, Lyric\, Melody\, Harmony\, and Rhythm. They all combine to capture the imagination of the listener. It is the song.” \n\n\n\nDoors open at 6:30 PM \n\n\n\nReturn Policy
URL:https://lethbridgefolkclub.ca/event/greg-herman-trio/
LOCATION:Army Navy Air Force Club (ANAVETS)\, 517 - 5 Ave South\, Lethbridge\, Alberta\, T1J 0T9\, Canada
CATEGORIES:Concert
ATTACH;FMTTYPE=image/jpeg:https://lethbridgefolkclub.ca/wp-content/uploads/2025/12/gREG-hERMAN-tRIO.jpg
END:VEVENT
BEGIN:VEVENT
DTSTART;TZID=America/Edmonton:20260523T190000
DTEND;TZID=America/Edmonton:20260523T220000
DTSTAMP:20260421T203417
CREATED:20251228T235942Z
LAST-MODIFIED:20260417T125028Z
UID:5587-1779562800-1779573600@lethbridgefolkclub.ca
SUMMARY:The Sadlier-Brown band
DESCRIPTION:The Sadlier-Brown Band with Henk van Ginnegen \n\n\n\n\n\n\n\n\n\n\n\n\nClick Here to buy tickets\n\n\n\n\n\n\nOnline Tickets are available now. \n\n\n\nAfter April 21st\, tickets will be available at our ticket partners: Analog Books\, Cuppers Coffee\, Theoretically Brewing\, and Casa. \n\n\n\n“I’d say we’re a bit eccentric\,” says Mark Sadlier-Brown. “I don’t want people to pigeon-hole us as a pure rockabilly band.” They play originals and their cover repertoire runs the gamut from Hendrix to Hank Williams\, the Rolling Stones to Mississippi John Hurt and Elvis to jug-band music (the elder Sadlier-Brown also plays in the High Water Jug Band). \n\n\n\n\n\n\n\nCalgary Arts All-Stars: The Sadlier-Brown Band–  By Jon Roe  •  Swerve/The Calgary Herald \n\n\n\n\nThe Lethbridge Folk Club presents The Sadlier-Brown Band with Henk van Ginneken opening on May 23rd\, 2026 at the Army Navy Air Force Club. \n\n\n\nThe Sadlier-Brown Band consists of three core members.  Mark Sadlier-Brown (guitar and vocals)\, Dylan (upright bass and vocals) and  Bev Bruce (percussion). \n\n\n\n\nThe Sadlier-Brown Band consists of three core members.  Mark Sadlier-Brown (guitar and vocals)\, Dylan (upright bass and vocals) and  Bev Bruce (percussion). Mark Sadlier-Brown is the frontman and has been playing his own kind of rootsy\, rockabilly\, folk\, and proto-jazz music for years. He also wrote “spur of the moment” songs for the local CBC station in Calgary. Mark performed as a member of “The Highwater Jugband” and the “Alien Rebels”.  \n\n\n\nThe Sadlier-Brown band likes to mix original songs with obscure vintage songs to give you a creative show. The band’s music mostly ranges from the era of the 50’s and into the 60’s.  All of their music is played with an infectious solid rhythm that encourages dancing.  The look and style of the band is vintage.  This includes clothes and instruments dating from the early time of country and rockabilly jive music. \n\n\n\nAcoustic Folk and Roots performer Henk van Ginneken (aka Leon Barr)\, backs up his vocals with guitars\, harmonicas\, mandolin and 6 string banjo. He has recorded two CDs. As well as his solo shows\, he has opened for Bill Bourne\, Tim Williams\, Oscar Lopez\, Jerusalem Ridge and Ken Ham to name a few. Along the way\, he has also done a lot of busking for well over 40 years. \n\n\n\nDoors open at 6:30 PM \n\n\n\nReturn Policy
URL:https://lethbridgefolkclub.ca/event/the-sadlier-brown-band/
LOCATION:Army Navy Air Force Club (ANAVETS)\, 517 - 5 Ave South\, Lethbridge\, Alberta\, T1J 0T9\, Canada
CATEGORIES:Concert
ATTACH;FMTTYPE=image/jpeg:https://lethbridgefolkclub.ca/wp-content/uploads/2025/12/IMG_5601.jpg
END:VEVENT
BEGIN:VEVENT
DTSTART;TZID=America/Edmonton:20260711T193000
DTEND;TZID=America/Edmonton:20260711T210000
DTSTAMP:20260421T203417
CREATED:20260408T005130Z
LAST-MODIFIED:20260408T141359Z
UID:6054-1783798200-1783803600@lethbridgefolkclub.ca
SUMMARY:Christian Howse
DESCRIPTION:Christian Howse \n\n\n\n\n\n\n\n\n\n\n\n\nClick Here to buy tickets\n\n\n\n\n\n\nOnline Tickets are available now. \n\n\n\nAfter May 24th\, tickets will be available at our ticket partners: Analog Books\, Cuppers Coffee\, Theoretically Brewing\, and Casa. \n\n\n\n\n“Christian’s raw talent and ability is staggering. His guitar work is very unique and when combined with the lyrics and vocal it is a killer package.” \n\n\n\n\n— George Canyon \n\n\n\n\n“ A great lyricist and perhaps a better poet.” \n\n\n\n\n\n“musical prodigy….embarrassingly talented…” and “everything you want in an artist.” \n\n\n\n\n— The Newfoundland Herald \n\n\n\n\n\n\n\n\nThe Lethbridge Folk Club Presents the Christian Howse at Theoretically Brewing on July 11th at 7:30 pm \n\n\n\nChristian Howse is a Canadian Folk Music Award-nominated singer-songwriter from Newfoundland\, Canada\, making waves in the East Coast music scene with his heartfelt storytelling and masterful musicianship. Renowned for his distinctive fingerstyle guitar work and evocative lyricism\, Christian continues to evolve as both an artist and a social observer.  \n\n\n\n\nChristian brings a powerful performance to the stage. Drawing from the genres of punk\, folk\, and math-rock\, he has developed a unique brand of percussive fingerstyle guitar which holds his audiences captive. With a passion for storytelling and a love for telling it how it is\, Christian illustrates a very raw and real depiction of the greatest fears\, darkest feelings\, and most beautiful revelations that we all come to feel\, to some extent\, throughout our lives. His songs are sure to leave you looking inward\, seeing a bit of your hidden self in every word. \n\n\n\nChristian’s artistry has been recognized with numerous accolades\, including a 2018 nomination for Canadian Folk Music Young Performer of the Year\, three 2019 MusicNL nominations for Rising Star\, Male Artist of the Year\, and Folk/Roots Artist of the Year\, and a 2025 MusicNL nomination for his sync placement on Hudson & Rex. With each release\, Christian continues to captivate audiences and strengthen his place in Canada’s folk tradition. \n\n\n\nDoors open at 6:30 PM \n\n\n\nReturn Policy
URL:https://lethbridgefolkclub.ca/event/christian-howse/
LOCATION:Theoretically Brewing Company\, 1263 2 Ave S\, Lethbridge\, Alberta\, T1J 0E7\, Canada
CATEGORIES:Concert
ATTACH;FMTTYPE=image/webp:https://lethbridgefolkclub.ca/wp-content/uploads/2026/04/Christian-Howse-3.webp
END:VEVENT
BEGIN:VEVENT
DTSTART;TZID=America/Edmonton:20260801T193000
DTEND;TZID=America/Edmonton:20260801T210000
DTSTAMP:20260421T203417
CREATED:20260408T134726Z
LAST-MODIFIED:20260408T142459Z
UID:6078-1785612600-1785618000@lethbridgefolkclub.ca
SUMMARY:Marten Borsch
DESCRIPTION:Marten Borsch \n\n\n\n\n\n\n\n\n\n\n\n\nClick Here to buy tickets\n\n\n\n\n\n\nOnline Tickets are available now. \n\n\n\nAfter July 14th\, tickets will be available at our ticket partners: Analog Books\, Cuppers Coffee\, Theoretically Brewing\, and Casa. \n\n\n\n\n“Delightful\, and heartwarming\, Marten plays a harmonica to sound like a fiddle\, breathtaking and bright with guitar & singing songs of love & hope. full house clapping along\, great energy!“ \n\n\n\n\n\n“ Went to a house concert he performed at. Beautiful sound and such emotional storytelling. We had such a wonderful time!! Highly recommend seeing him if you have a chance!” \n\n\n\n\n\n“Marten just did a wonderful house concert for us. Great music\, very personal and engaging. Our listeners totally enjoyed his performance.” \n\n\n\n\n\n\n\n\n\nThe Lethbridge Folk Club Presents the Marten Borsch at Analog Books on August 1st at 7:30 pm \n\n\n\nMarten Borch is a singer-songwriter from Edmonton known for his raw authenticity\, heartfelt lyrics\, and a deep commitment to using music as a tool for connection and change. Influenced by folk\, Celtic\, swing\, and even a touch of EDM\, his sound weaves together old-world roots and modern energy. His songs tackle themes of social justice\, environmentalism\, and the human experience—music that’s meant to make you feel\, think\, and move. \n\n\n\n\nOn stage\, Borch performs solo—but you’d never guess it. The sheer fullness of his sound\, rhythm\, and presence often leaves audiences convinced they’re hearing a full band. It’s a “three-in-one” experience that turns every set into something bigger than the sum of its parts. With the release of his latest album\, “That Was Fun“\, he’s carving out space as a powerful\, purposeful voice in the indie scene. \n\n\n\nDoors open at 6:30 PM \n\n\n\nReturn Policy
URL:https://lethbridgefolkclub.ca/event/marten-borsch/
LOCATION:Analog Books\, 322-6 street S\, Lethbridge\, Alberta\, T1J2C8\, Canada
CATEGORIES:Concert
ATTACH;FMTTYPE=image/webp:https://lethbridgefolkclub.ca/wp-content/uploads/2026/04/Marten-Borsch-1.webp
END:VEVENT
BEGIN:VEVENT
DTSTART;TZID=America/Edmonton:20260829T120000
DTEND;TZID=America/Edmonton:20260829T203000
DTSTAMP:20260421T203417
CREATED:20260312T105717Z
LAST-MODIFIED:20260312T110305Z
UID:5833-1788004800-1788035400@lethbridgefolkclub.ca
SUMMARY:Lethbridge Porchfest
DESCRIPTION:Lethbridge Porchfest \n\n\n\n\n\n\n\n\n\n\n\n\nClick Here for more information on Porchfest\n\n\n\n\n\n\nThis is a free event for the whole family. \n\n\n\nJoin us for Porchfest Lethbridge\, a family-friendly\, walkable\, free\, one-day music festival featuring 6 artists presenting a one-hour show in the front yards of 6 homes in one central neighbourhood\, London Road\, at staggered times between 12 and 7 pm on August 29th\, with a grand finale concert at Kinsmen Park in London Road at 7:30 PM \n\n\n\n\n\n\n\n \n\n\n\n\nThe Lethbridge Folk Club presents Lethbridge Porchfest A 1-day music festival with musicians performing on hosts’ front porches\, or front lawns\, turning the entire community into a free concert venue on Saturday August 29th\, 2026 \n\n\n\n\nA grassroots\, neighbourhood-based music festival where local musicians perform on residents’ front porches\, front lawns\, or driveways\, turning the entire community into a walkable\, free concert venue. This inaugural free event will take place in the historic London Road Neighbourhood and the Fleetwood areas of Lethbridge. There will be 6 concerts at 6 different homes over a staggered 7 1/2 -hour period. This will allow music patrons to move from concert to concert in a very leisurely\, walkable manner or pick and choose which performances they’d like to stay for. There have already been 6 hosts who volunteered to host a concert on the front porches or in the yards. The event will culminate in a 1-hour wind-up concert at London Road’s Kinsmen Park. \n\n\n\nPorchfest starts at 12:00  noon with our first Porch concert and continues until 8:30 pm\, when our finale at Kinsmen Park winds up. \n\n\n\n\n\n\n\n\n\nSee what they did in Medicine Hat last year! \n\n\n\n\n\n\n\n\n\n\n\n\n\n\n\n\n\n\n\n\n\n\n\n\n\n\n\nClick on image to get a bigger view
URL:https://lethbridgefolkclub.ca/event/lethbridge-porchfest/
LOCATION:London Road Neighbourhood & Kinsmen Playground\, 1016 9 Ave S\,\, Lethbridge Alberta\, alberta\, T1J 1T9\, Canada
CATEGORIES:Concert
ATTACH;FMTTYPE=image/jpeg:https://lethbridgefolkclub.ca/wp-content/uploads/2026/03/Porchfest-Logo.jpg
END:VEVENT
END:VCALENDAR