BEGIN:VCALENDAR
VERSION:2.0
PRODID:-//Lethbridge Folk Club - ECPv6.15.20//NONSGML v1.0//EN
CALSCALE:GREGORIAN
METHOD:PUBLISH
X-WR-CALNAME:Lethbridge Folk Club
X-ORIGINAL-URL:https://lethbridgefolkclub.ca
X-WR-CALDESC:Events for Lethbridge Folk Club
REFRESH-INTERVAL;VALUE=DURATION:PT1H
X-Robots-Tag:noindex
X-PUBLISHED-TTL:PT1H
BEGIN:VTIMEZONE
TZID:America/Edmonton
BEGIN:DAYLIGHT
TZOFFSETFROM:-0700
TZOFFSETTO:-0600
TZNAME:MDT
DTSTART:20230312T090000
END:DAYLIGHT
BEGIN:STANDARD
TZOFFSETFROM:-0600
TZOFFSETTO:-0700
TZNAME:MST
DTSTART:20231105T080000
END:STANDARD
BEGIN:DAYLIGHT
TZOFFSETFROM:-0700
TZOFFSETTO:-0600
TZNAME:MDT
DTSTART:20240310T090000
END:DAYLIGHT
BEGIN:STANDARD
TZOFFSETFROM:-0600
TZOFFSETTO:-0700
TZNAME:MST
DTSTART:20241103T080000
END:STANDARD
BEGIN:DAYLIGHT
TZOFFSETFROM:-0700
TZOFFSETTO:-0600
TZNAME:MDT
DTSTART:20250309T090000
END:DAYLIGHT
BEGIN:STANDARD
TZOFFSETFROM:-0600
TZOFFSETTO:-0700
TZNAME:MST
DTSTART:20251102T080000
END:STANDARD
END:VTIMEZONE
BEGIN:VEVENT
DTSTART;TZID=America/Edmonton:20240113T193000
DTEND;TZID=America/Edmonton:20240113T223000
DTSTAMP:20260421T144622
CREATED:20231222T210505Z
LAST-MODIFIED:20240111T225154Z
UID:225-1705174200-1705185000@lethbridgefolkclub.ca
SUMMARY:SID MARTY AND WAILBACK
DESCRIPTION:SID MARTY AND WAILBACK\n\n\n\n\nSaturday\, January 13th\, 2024 \nThe Cave\, Lethbridge College\n3000 College Drive South\nLethbridge\, Alberta \nSid Marty and Wailback\, based out of Pincher Creek\, concentrates on arrangements of songs about Alberta! Featuring well-aged cowboys\, crazy weather\, despairing lovers\, mountaineers\, poets\, and some charismatic megafauna – as well as the common snipe and miscellaneous other critters. \nOpening Act for Sid Marty & Wailback will be Maureen Chambers \nTickets for Members are $35\, and $10 for students and will be available at the door.\nMemberships will also be available for purchase at the door. \nDoors open at 6:30 pm\, Entertainment starts at 7:30 pm \nTickets are also available at Eventbrite. Please be aware that tickets purchased at Eventbrite will be at full price with the Eventbrite fee added to the ticket. There will be no refunds for Members. \nSid Marty and Wailback hosted by the Lethbridge Folk Club \n\nFor a taste of what you’ll hear visit: \nhttps://www.sidmarty.com/music \nhttps://youtu.be/Myomul35lFo?si=dHU-lX7KVWXiKQIf \n\n\nBuy TicketTickets are available at CASA\,  at the door\,  or online at the link at the link above
URL:https://lethbridgefolkclub.ca/event/sid-marty-and-wailback/
LOCATION:The Cave at Lethbridge Polytechnic\, 3000 College Drive S\, Lethbridge\, Alberta\, TiK1L6\, Canada
CATEGORIES:Concert
ATTACH;FMTTYPE=image/jpeg:https://lethbridgefolkclub.ca/wp-content/uploads/2023/12/Sid-Marty-Elsewhere-e1703254438362.jpg
ORGANIZER;CN="Lethbridge Folk Club":MAILTO:tickets@lethbridgefolkclub.ca
END:VEVENT
BEGIN:VEVENT
DTSTART;TZID=America/Edmonton:20240112T190000
DTEND;TZID=America/Edmonton:20240112T210000
DTSTAMP:20260421T144622
CREATED:20231222T224022Z
LAST-MODIFIED:20240126T102432Z
UID:244-1705086000-1705093200@lethbridgefolkclub.ca
SUMMARY:Open Stage
DESCRIPTION:Wander West at a Fall Open Stage\nOPEN STAGE\n\nAll are welcome to the Lethbridge Folk Club’s ‘Open Stage’ evenings where we host local performing musicians and poets at McKillop United Church: 2329 15th Avenue South\, Lethbridge\, Alberta \nLethbridge Folk Club will provide to you at no cost a stage with sound facilities to perform some of your own music\,  music you have borrowed\, or poetry of your choice. As well as an eager and appreciative audience to listen and perhaps dance to your musical performance! \nEnter at the main entrance\, turn left\, and go up the stairs to the hall.  \nDonations are appreciated to help pay for the venue. \n\n\nSupport Us Now
URL:https://lethbridgefolkclub.ca/event/open-stage/
LOCATION:McKillop United Church\, 2329 15 Ave South\, Lethbridge\, Alberta\, T1K0X5\, Canada
CATEGORIES:Open Stage
ATTACH;FMTTYPE=image/jpeg:https://lethbridgefolkclub.ca/wp-content/uploads/2023/12/Open-Stage.jpg
ORGANIZER;CN="Lethbridge Folk Club":MAILTO:tickets@lethbridgefolkclub.ca
END:VEVENT
END:VCALENDAR